BEGIN:VCALENDAR
VERSION:2.0
PRODID:-//Haven Banks - ECPv6.15.20//NONSGML v1.0//EN
CALSCALE:GREGORIAN
METHOD:PUBLISH
X-ORIGINAL-URL:https://www.haven-banks.co.uk
X-WR-CALDESC:Events for Haven Banks
REFRESH-INTERVAL;VALUE=DURATION:PT1H
X-Robots-Tag:noindex
X-PUBLISHED-TTL:PT1H
BEGIN:VTIMEZONE
TZID:Europe/London
BEGIN:DAYLIGHT
TZOFFSETFROM:+0000
TZOFFSETTO:+0100
TZNAME:BST
DTSTART:20250330T010000
END:DAYLIGHT
BEGIN:STANDARD
TZOFFSETFROM:+0100
TZOFFSETTO:+0000
TZNAME:GMT
DTSTART:20251026T010000
END:STANDARD
BEGIN:DAYLIGHT
TZOFFSETFROM:+0000
TZOFFSETTO:+0100
TZNAME:BST
DTSTART:20260329T010000
END:DAYLIGHT
BEGIN:STANDARD
TZOFFSETFROM:+0100
TZOFFSETTO:+0000
TZNAME:GMT
DTSTART:20261025T010000
END:STANDARD
BEGIN:DAYLIGHT
TZOFFSETFROM:+0000
TZOFFSETTO:+0100
TZNAME:BST
DTSTART:20270328T010000
END:DAYLIGHT
BEGIN:STANDARD
TZOFFSETFROM:+0100
TZOFFSETTO:+0000
TZNAME:GMT
DTSTART:20271031T010000
END:STANDARD
END:VTIMEZONE
BEGIN:VEVENT
DTSTART;TZID=Europe/London:20260722T080000
DTEND;TZID=Europe/London:20260724T180000
DTSTAMP:20260422T013818
CREATED:20260107T170938Z
LAST-MODIFIED:20260107T170938Z
UID:11649-1784707200-1784916000@www.haven-banks.co.uk
SUMMARY:Summer Holiday Adventure Activities
DESCRIPTION:Half-day\, full-day and week-long courses and activity sessions for 5-8 year-olds (Little Adventurers) and 8-14 year olds. Courses and activity sessions include: Kayaking\, canoeing\, sailing\, climbing and artificial caving\, improvised raft-building\, archery\, orienteering\, team-building and bell-boating. Early morning drop off and late collection options available. \n  BOOK NOW
URL:https://www.haven-banks.co.uk/event/summer-holiday-adventure-activities/
LOCATION:Haven Banks Outdoor Education Centre\, Haven Road\, Exeter\, Devon\, EX2 8DP\, United Kingdom
ATTACH;FMTTYPE=image/jpeg:https://www.haven-banks.co.uk/wp-content/uploads/2018/04/2020-07Sum-BannerWeb.jpg
ORGANIZER;CN="Haven Banks OEC":MAILTO:info@haven-banks.co.uk
END:VEVENT
BEGIN:VEVENT
DTSTART;TZID=Europe/London:20260727T080000
DTEND;TZID=Europe/London:20260731T180000
DTSTAMP:20260422T013818
CREATED:20180403T104801Z
LAST-MODIFIED:20260107T170711Z
UID:2968-1785139200-1785520800@www.haven-banks.co.uk
SUMMARY:Summer Holiday Adventure Activities
DESCRIPTION:Half-day\, full-day and week-long courses and activity sessions for 5-8 year-olds (Little Adventurers) and 8-14 year olds. Courses and activity sessions include: Kayaking\, canoeing\, sailing\, climbing and artificial caving\, improvised raft-building\, archery\, orienteering\, team-building and bell-boating. Early morning drop off and late collection options available. \n  BOOK NOW
URL:https://www.haven-banks.co.uk/event/summer-holiday-activity-extravaganza-6/
LOCATION:Haven Banks Outdoor Education Centre\, Haven Road\, Exeter\, Devon\, EX2 8DP\, United Kingdom
ATTACH;FMTTYPE=image/jpeg:https://www.haven-banks.co.uk/wp-content/uploads/2018/04/2020-07Sum-BannerWeb.jpg
END:VEVENT
END:VCALENDAR