BEGIN:VCALENDAR
VERSION:2.0
PRODID:-//Haven Banks - ECPv6.15.20//NONSGML v1.0//EN
CALSCALE:GREGORIAN
METHOD:PUBLISH
X-ORIGINAL-URL:https://www.haven-banks.co.uk
X-WR-CALDESC:Events for Haven Banks
REFRESH-INTERVAL;VALUE=DURATION:PT1H
X-Robots-Tag:noindex
X-PUBLISHED-TTL:PT1H
BEGIN:VTIMEZONE
TZID:Europe/London
BEGIN:DAYLIGHT
TZOFFSETFROM:+0000
TZOFFSETTO:+0100
TZNAME:BST
DTSTART:20250330T010000
END:DAYLIGHT
BEGIN:STANDARD
TZOFFSETFROM:+0100
TZOFFSETTO:+0000
TZNAME:GMT
DTSTART:20251026T010000
END:STANDARD
BEGIN:DAYLIGHT
TZOFFSETFROM:+0000
TZOFFSETTO:+0100
TZNAME:BST
DTSTART:20260329T010000
END:DAYLIGHT
BEGIN:STANDARD
TZOFFSETFROM:+0100
TZOFFSETTO:+0000
TZNAME:GMT
DTSTART:20261025T010000
END:STANDARD
BEGIN:DAYLIGHT
TZOFFSETFROM:+0000
TZOFFSETTO:+0100
TZNAME:BST
DTSTART:20270328T010000
END:DAYLIGHT
BEGIN:STANDARD
TZOFFSETFROM:+0100
TZOFFSETTO:+0000
TZNAME:GMT
DTSTART:20271031T010000
END:STANDARD
END:VTIMEZONE
BEGIN:VEVENT
DTSTART;TZID=Europe/London:20260216T083000
DTEND;TZID=Europe/London:20260220T173000
DTSTAMP:20260421T234311
CREATED:20180903T113821Z
LAST-MODIFIED:20260107T165100Z
UID:3471-1771230600-1771608600@www.haven-banks.co.uk
SUMMARY:February Half Term Activity Week
DESCRIPTION:February Half Term. One day\, half day and week long courses and activity sessions for 5-8 and 8-14 year olds. \nCourses and activity sessions include: Kayaking\, canoeing\, climbing wall and artificial caving\, improvised raft-building\, archery\, team-building\, bush craft day and bell-boating. \nEarly morning drop off and late collection options for busy parents. \n  BOOK NOW!
URL:https://www.haven-banks.co.uk/event/february-half-term-activity-week/
LOCATION:Haven Banks Outdoor Education Centre\, Haven Road\, Exeter\, Devon\, EX2 8DP\, United Kingdom
ATTACH;FMTTYPE=image/jpeg:https://www.haven-banks.co.uk/wp-content/uploads/2018/09/2020-02Feb-BannerWeb.jpg
END:VEVENT
END:VCALENDAR